Workbook

Sheet 入学願書1-1
AJ1: 様式1－1
B2: 麻生専門学校グループ日本語科 入学願書
B4: Aso College Group Japanese Course Application for Admission
B7: 入学希望学科 | AG7: 写真貼付
B8: Course you wish to enroll in
B9: □ | D9: 麻生外語観光＆ブライダル専門学校 日本語科（進学2年課程） | Z9: 4月入学
D10: ASO Foreign Language Tourism And Bridal College Japanese Language Course Higher Education Preparatory Course (2 years) | Z10: Starting term: April
B11: □ | D11: 麻生外語観光＆ブライダル専門学校 日本語科（進学1年6か月課程） | Z11: 10月入学
D12: ASO Foreign Language Tourism And Bridal College Japanese Language Course Higher Education Preparatory Course (1 year 6 months) | Z12: Starting term: October
B13: □ | D13: 麻生公務員専門学校北九州校 日本語科（進学2年課程） | Z13: 4月入学
D14: ASO Public Officer Kitakyushu College Japanese Language Course Higher Education Preparatory Course (2 years) | Z14: Starting term: April
B16: 国 籍・地 域 | U16: 生 年 月 日 | AD16: 年 | AG16: 月 | AK16: 日
B17: Nationality/Region | U17: Date of birth | AD17: Year | AG17: Month | AK17: Day
B18: 氏 名 | E18: 日 本 語（フリガナ） | AA18: 漢 字
E19: Furigana | AA19: Chinese characters
B20: Name | E20: 英 字 | K20: Please write your name exactly as it appears in your passport.（パスポートの氏名）
E21: Roman alphabet
B22: 性 別 | E22: □ | F22: 男 | H22: □ | I22: 女 | K22: 出 生 地 | Y22: 配 偶 者 | AD22: □ | AE22: 有 | AH22: □ | AI22: 無
B23: Sex | F23: Male | I23: Female | K23: Place of birth | Y23: Marital status | AE23: Married | AI23: Single
B24: 現 住 所 | Y24: 電 話 番 号
B25: Current address | Y25: Telephone number
B26: 本 籍 地 | Y26: 職 業
B27: Home town | Y27: Occupation
B28: 旅 券 の 状 態 | I28: □ | J28: 有効な旅券を所持 | Q28: □ | R28: 未所持（取得予定・申請中） | AD28: □ | AE28: 更新・切替申請中
B29: Status of passport | J29: Valid passport | R29: Not yet obtained (Planned / Application in progress) | AE29: Renewal / Replacement in progress
B30: 旅 券 番 号 | T30: 有 効 期 限 | AE30: 年 | AH30: 月 | AK30: 日
B31: Passport number | T31: Date of expiration | AE31: Year | AH31: Month | AK31: Day
B32: 査 証 申 請 予 定 地 | T32: 上 陸 予 定 港
B33: Intended place to apply for visa | T33: Port of entry
B34: 過 去 の 出 入 国 歴 | L34: □ | M34: 有 | O34: □ | P34: 無 | T34: 回 | V34: 直近の出入国歴 | AG34: から
B35: History of Entry to and Departure from Japan | M35: Yes | P35: No | T35: time(s) | V35: The latest entry | AB35: yyyy/mm/dd | AG35: to | AH35: yyyy/mm/dd
B36: 過去の在留資格認定証明書交付申請歴 | N36: □ | O36: 有 | Q36: □ | R36: 無 | V36: 回 | X36: 内、不交付回数 | AJ36: 回
B37: Past history of applying for a certificate of eligibility | O37: Yes | R37: No | V37: time(s) | X37: History of application denial | AJ37: time(s)
B39: 在日親族（父・母・配偶者・子・兄弟姉妹など）及び同居者 | Y39: □ | Z39: 有（Yes） | AC39: □ | AD39: 無（No）
B40: Family in Japan（Father,Mother,Spouse,Son,Daughter,Brother,Sister or Others）or co-residents
B41: 続 柄 | E41: 氏 名 | L41: 生年/月/日 | P41: 国 籍 | T41: 同 居 予 定 | Z41: 勤 務 先・通 学 先 | AF41: 在留カード番号
B42: Relationship | E42: Name | L42: Date of birth | P42: Nationality | T42: Intended to reside with applicant or not | Z42: Place of employment/school | AF42: Residence card number
T44: □ | U44: 有 | W44: □ | X44: 無
U45: Yes | X45: No
T46: □ | U46: 有 | W46: □ | X46: 無
...

Sheet 入学願書1-2
AK1: 様式1－2
B2: 最終学歴（又は在学中の学校） Education(last school or institution)or present school
B3: 在 籍 状 況 | J3: □ | L3: 卒 業 | R3: □ | T3: 在 学 中 | Z3: □ | AB3: 休 学 中 | AG3: □ | AI3: 中 退
B4: Enrollment status | L4: Graduated | T4: In school | AB4: leave on absense | AI4: Withdrawal
J5: □ | L5: 大学院（博士） | R5: □ | T5: 大学院（修士） | Z5: □ | AB5: 大 学 | AG5: □ | AI5: 短 期 大 学
B6: 在 籍 区 分 | L6: Doctor | T6: Master | AB6: Bachelor | AI6: Junior college
B7: Highest level of education | J7: □ | L7: 専 門 学 校 | R7: □ | T7: 高 等 学 校 | Z7: □ | AB7: その他 | AE7: （ | AM7: ）
L8: Technical college | T8: Senior high school | AB8: Others
B10: 学歴 Educational history ※小学校から記入すること。 Fill in from elementary school.
B11: 学 校 名 | O11: 所 在 地 | V11: 在 学 期 間 | AL11: 年 数
B12: Name of the school | O12: Address | V12: Duration of study | AL12: Years
Y13: 年 | AB13: 月 | AC13: ～ | AG13: 年 | AJ13: 月
Y14: Year | AB14: Month | AG14: Year | AJ14: Month
Y15: 年 | AB15: 月 | AC15: ～ | AG15: 年 | AJ15: 月
Y16: Year | AB16: Month | AG16: Year | AJ16: Month
Y17: 年 | AB17: 月 | AC17: ～ | AG17: 年 | AJ17: 月
Y18: Year | AB18: Month | AG18: Year | AJ18: Month
Y19: 年 | AB19: 月 | AC19: ～ | AG19: 年 | AJ19: 月
Y20: Year | AB20: Month | AG20: Year | AJ20: Month
Y21: 年 | AB21: 月 | AC21: ～ | AG21: 年 | AJ21: 月
Y22: Year | AB22: Month | AG22: Year | AJ22: Month
Y23: 年 | AB23: 月 | AC23: ～ | AG23: 年 | AJ23: 月
Y24: Year | AB24: Month | AG24: Year | AJ24: Month
Y25: 年 | AB25: 月 | AC25: ～ | AG25: 年 | AJ25: 月
Y26: Year | AB26: Month | AG26: Year | AJ26: Month
B28: 職歴 Employment history | AC28: □ | AD28: 有（Yes） | AG28: □ | AH28: 無（No）
B29: 勤 務 先 | M29: 勤 務 期 間 | AC29: 所 在 地 | AJ29: 職 務 内 容
B30: Company | M30: Period of work | AC30: Address | AJ30: Position
P31: 年 | S31: 月 | T31: ～ | X31: 年 | AA31: 月
P32: Year | S32: Month | X32: Year | AA32: Month
P33: 年 | S33: 月 | T33: ～ | X33: 年 | AA33: 月
P34: Year | S34: Month | X34: Year | AA34: Month
P35: 年 | S35: 月 | T35: ～ | X35: 年 | AA35: 月
P36: Year | S36: Month | X36: Year | AA36: Month
P37: 年 | S37: 月 | T37: ～ | X37: 年 | AA37: 月
P38: Year | S38: Month | X38: Year | AA38: Month
P39: 年 | S39: 月 | T39: ～ | X39: 年 | AA39: 月
P40: Year | S40: Month | X40: Year | AA40: Month
P41: 年 | S41: 月 | T41: ～ | X41: 年 | AA41: 月
P42: Year | S42: Month | X42: Year | AA42: Month
...

Sheet 入学願書1-3
AI1: 様式1－3
B2: 日本語能力に関する試験 Japanese language ability test | Y2: □ | Z2: 有（Yes） | AB2: □ | AC2: 受験済（結果待ち） | AH2: □ | AI2: 無（No）
B3: ※合否判定のある試験は、合格した試験のみ記入してください。 Please list only tests that you have passed. | AC3: Taken (Awaiting Results)
B4: 試 験 名 | Y4: 級または点数
B5: Name of the test | Y5: Attained level or score
B6: 試験日（受験日） | Y6: 試験場所
B7: Date of the test | Y7: Place of test
B8: 結果発表日（予定） | Y8: 受験番号
B9: Expected Result Date | Y9: Examinee number
B12: 日本語学習歴①（教育機関・独学を含む） | Y12: □ | Z12: 教育機関 | AB12: □ | AC12: 独学(Self-study) | AH12: □ | AI12: 無（No）
B13: Japanese Language Study History 1 (including self-study)
B14: 機関名 | U14: 支店名
B15: Organization | U15: Branch / Campus
F16: =IFERROR(INDEX(' '!$H$12:$H$13,MATCH($AB$12,' '!$D$11,0))," ") | Y16: =IFERROR(INDEX(' '!$H$12:$H$13,MATCH($AB$12,' '!$D$11,0))," ")
B17: 代表者名 | U17: 住所
B18: Name of representative | U18: Address
F19: =IFERROR(INDEX(' '!$H$12:$H$13,MATCH($AB$12,' '!$D$11,0))," ") | Y19: =IFERROR(INDEX(' '!$H$12:$H$13,MATCH($AB$12,' '!$D$11,0))," ")
B20: 電話番号 | U20: WebサイトURL
B21: Phone number | U21: Official Website
F22: =IFERROR(INDEX(' '!$H$12:$H$13,MATCH($AB$12,' '!$D$11,0))," ") | Y22: =IFERROR(INDEX(' '!$H$12:$H$13,MATCH($AB$12,' '!$D$11,0))," ")
B23: 学習期間 | I23: 年 | L23: 月 | M23: ～ | Q23: 年 | T23: 月 | U23: 総学習時間 | AB23: 時間 | AC23: 既学習時間 | AJ23: 時間
B24: Period of study | I24: Year | L24: Month | Q24: Year | T24: Month | U24: Total study hours | AB24: Hours | AC24: Study hours completed | AJ24: Hours
B25: 学習内容
B26: Study Details
B29: 日本語学習歴②（教育機関・独学を含む） | Y29: □ | Z29: 教育機関 | AB29: □ | AC29: 独学(Self-study) | AH29: □ | AI29: 無（No）
B30: Japanese Language Study History 2 (including self-study)
B31: 機関名 | U31: 支店名
B32: Organization | U32: Branch / Campus
F33: =IFERROR(INDEX(' '!$H$12:$H$13,MATCH($AB$29,' '!$D$11,0))," ") | Y33: =IFERROR(INDEX(' '!$H$12:$H$13,MATCH($AB$29,' '!$D$11,0))," ")
B34: 代表者名 | U34: 住所
B35: Name of representative | U35: Address
F36: =IFERROR(INDEX(' '!$H$12:$H$13,MATCH($AB$29,' '!$D$11,0))," ") | Y36: =IFERROR(INDEX(' '!$H$12:$H$13,MATCH($AB$29,' '!$D$11,0))," ")
B37: 電話番号 | U37: WebサイトURL
B38: Phone number | U38: Official Website
F39: =IFERROR(INDEX(' '!$H$12:$H$13,MATCH($AB$29,' '!$D$11,0))," ") | Y39: =IFERROR(INDEX(' '!$H$12:$H$13,MATCH($AB$29,' '!$D$11,0))," ")
B40: 学習期間 | I40: 年 | L40: 月 | M40: ～ | Q40: 年 | T40: 月 | U40: 総学習時間 | AB40: 時間 | AC40: 既学習時間 | AJ40: 時間
B41: Period of study | I41: Year | L41: Month | Q41: Year | T41: Month | U41: Total study hours | AB41: Hours | AC41: Study hours completed | AJ41: Hours
B42: 学習内容
B43: Study Details
B46: 日本語学習歴③（教育機関・独学を含む） | Y46: □ | Z46: 教育機関 | AB46: □ | AC46: 独学(Self-study) | AH46: □ | AI46: 無（No）
...

Sheet 留学理由書
B1: 麻生専門学校グループ日本語科
B3: Aso College Group Japanese Course
B5: 留 学 理 由 書
B7: Purpose of studying in Japan
B9: 自己紹介、日本で日本語を勉強するようになった経緯、日本語学習の目的、本校を卒業後の予定などについて、できるだけ具体的に記入すること。
B11: Please provide detailed information about yourself, including your reasons for choosing to study Japanese in Japan, your purpose for studying Japanese, and your future plans after graduation.
P68: 本 人 署 名
P69: Signature of the applicant
AA71: 年 | AE71: 月 | AI71: 日
AA72: Year | AE72: Month | AI72: Day

Sheet 留学理由書（和訳）
B1: 麻生専門学校グループ日本語科
B3: Aso College Group Japanese Course
B5: 留 学 理 由 書 （和訳）
B7: Purpose of studying in Japan (Japanese Translation)
B9: 自己紹介、日本で日本語を勉強するようになった経緯、日本語学習の目的、本校を卒業後の予定などについて、できるだけ具体的に記入すること。
B11: Please provide detailed information about yourself, including your reasons for choosing to study Japanese in Japan, your purpose for studying Japanese, and your future plans after graduation.
P68: 本 人 署 名
P69: Signature of the applicant
AA71: 年 | AE71: 月 | AI71: 日
AA72: Year | AE72: Month | AI72: Day

Sheet 経費支弁書
A1: 麻生専門学校グループ日本語科 経費支弁書
A3: Aso College Group Japanese Course Statement of Financial Support
A5: 入学希望者氏名 | G5: =IF('入学願書1-1'!$K$21="","",'入学願書1-1'!$K$21)
A6: Applicant's name
A7: 国 籍・地 域 | G7: =IF('入学願書1-1'!$H$16="","",'入学願書1-1'!$H$16) | R7: 生 年 月 日 | V7: =IF('入学願書1-1'!$Y$16="","",'入学願書1-1'!$Y$16) | AA7: 年 | AB7: =IF('入学願書1-1'!$AE$16="","",'入学願書1-1'!$AE$16) | AE7: 月 | AF7: =IF('入学願書1-1'!$AH$16="","",'入学願書1-1'!$AH$16) | AI7: 日
A8: Nationality / Region | R8: Date of birth | AA8: Year | AE8: Month | AI8: Day
A9: １．経費支弁内容 Plans for financial
A10: 私（経費支弁者）は、上記の者の日本国滞在について、下記のとおり経費支弁する事を証明いたします。又、上記の者が在留期間更新許可申請の際には、送金証明書又は本人名義の預金通帳（送金事実、経費支弁事実が記載されたもの）の写しなどで、生活費などの支弁事実を明らかにする書類を提出します。
A13: I, (Financial supporter's name) hereby certify that I will provide the financial support described below during the student's stay in Japan. When the student above applies for an extension of the period of stay, I will submit documents, such as copies of remittance records, a copy of my own bankbook or bank statement showing records of fund transfers and certify my financial ability to support the student.
A16: 学 費 | F16: ■ | G16: 年間 | J16: 680,000 | S16: 円 | T16: 生 活 費 | Y16: ■ | Z16: 月額 | AI16: 円
A17: Tuition | G17: Per year | S17: JPY | T17: Living expenses | Z17: Per month | AI17: JPY
A18: 支 弁 方 法 Method of support | F18: □ | G18: 外国からの携行 | S18: 円 | T18: □ | U18: 外国からの送金 | AI18: 円
G19: Carrying cash from overseas | S19: JPY | U19: Remittances from abroad | AI19: JPY
F20: （ | G20: 携行者 ： | S20: ) | T20: □ | U20: その他 | AI20: 円
U21: Other | AI21: JPY
F22: （ | G22: 携行時期： | S22: ) | T22: （詳細： | AI22: )
G23: Expected Date of Bringing the Funds
A25: ２．経費支弁者 Financial supporter's information
A26: 氏 名 | D26: 英 字
D27: Roman alphabet
A28: Name | D28: 漢 字
D29: Chinese characters
A30: 住 所
A31: Address
A32: 入学希望者との関係 | W32: 電 話 番 号
A33: Relationship to the applicant | W33: Telephone number
A34: 職 業（勤務先の名称） | W34: 勤務先電話番号
A35: Occupation (Name of Employer） | W35: Work phone number
A36: 年 収（母国通貨） | W36: 通 貨 種 類
A37: Annual income | W37: Currency
A39: ３．経費支弁者は入学希望者の親族以外の方の場合、経費支弁の引き受けた経緯をご記入ください。
A40: If the financial supporter is not a relative of the applicant, please describe the reasons for the financial support.
A45: 以上の記載内容は事実と相違ありません。
A46: I hereby declare that the statement given above is true and correct.
B48: 経 費 支 弁 者 署 名 | Z48: 年 | AD48: 月 | AH48: 日
B49: Signature of Financial Supporter | Z49: Year | AD49: Month | AH49: Day

Sheet  誓約書
A2: 麻生専門学校グループ日本語科 誓約書
A4: Aso College Group Japanese Course Declaration Form
A6: 私は貴校に入学が許可された場合、以下の事項を遵守することを誓います。
A7: I hereby pledge that I will abide by the following requirements if I am admitted to this school.
A9: 1
E10: 日本国が定める法律を守る。
E11: I will comply with the laws of Japan.
A13: 2
E14: 貴校が定める学則及び諸規則を遵守する。
E15: I will comply with the rules and regulations of the school.
A17: 3
E18: 日本滞在中にかかる費用に関して全責任を持つ。
E19: I will be responsible for all expenses incurred during my stay in Japan.
A21: 4
E22: 貴校を中途退学する場合、事前に申請書を提出し、学費の返還を放棄する。
E23: If I withdraw from the college, I will submit a withdrawal application in advance and waive my right to a refund of tuition fees.
A25: 5
E26: 貴校を中途退学、卒業した場合、迅速に帰国或は在留資格変更の手続きを行う。
E27: In the event of withdrawal from or graduation from this school, I will promptly complete the necessary procedures for returning to my home country or changing my status of residence.
A29: 6 | E29: 帰国及び在留資格もしくは在留期間に変更が発生した後、必ず学校に在留カードのコピーを提出する。
E31: If I return to my home country or if there is any change in my status of residence or period of stay, I will submit a copy of my Residence Card to the school without fail.
A34: 上記の項目を違反した場合、貴校が採る如何なる措置にも従うことを誓います。
A35: If I violate any of the requirements stated above, I agree to accept and comply with any measures taken by the school.
A37: 入学希望者 | G37: （署名）
A38: Applicanｔ | G38: （signature）
A39: 経費支弁者 | G39: （署名）
A40: Financial supporter | G40: （signature）
Z42: 年 | AD42: 月 | AH42: 日
Z43: Year | AD43: Month | AH43: Day
A45: 入寮希望者 Applicant
A47: 入寮希望者は、ご希望の寮名をご記入ください。
A48: If you want to apply for a dormitory room, please write the name of the desired dormitory below.
A50: 第一希望
A52: 第二希望
A54: 第三希望

Sheet   
D11: ■
D12: 機関名 | H12: 独学のため、記入不要です。 | I12: 支店名 | M12: 独学のため、記入不要です。
D13: Organization | I13: Branch / Campus
D14: 代表者名 | H14: 独学のため、記入不要です。 | I14: 住所 | M14: 独学のため、記入不要です。
D15: Name of representative | I15: Address
D16: 電話番号 | H16: 独学のため、記入不要です。 | I16: WebサイトURL | M16: 独学のため、記入不要です。
D17: Phone number | I17: (Official Website)

Sheet Sheet1
A1: ASO International House Ⅰ
A2: ドーミー博多駅南（女性専用）Dormy Hakata Station South (Women only)
A3: ドーミー博多駅南Ⅱ（男性専用） Dormy Hakata Station South Ⅱ (Men only)
A4: ドーミー天神南 Dormy Tenjin South
A5: ドーミー南福岡 Dormy Minami-Fukuoka
A6: ドーミー大橋 Dormy Ohashi
A7: ドーミー平尾（男性専用） Dormy Hirao (Men only)
A8: シェアリースタイル博多 Sharely Style Hakata
A9: （北九州校）ドーミー西小倉駅前 Dormy Nishi-Kokura Ekimae
A10: 寮に入らない No accommodation needed
