Workbook

Sheet ①願書入力フォーム
B1: 下記４つのシート（Sheet）にのみご入力ください。 ①願書入力フォーム、②経費支弁書、③理由書、④質問書
B3: ①願書入力フォーム
B4: ※ 部分は、該当するところに「 ✔ 」、もしくは該当する項目を「 選択 」してください。
B6: 本人氏名 | D6: 日本語（漢字）
D7: フリガナ
D8: 英 語
B9: 国籍・地域
B10: 出生地
B11: 性別
B12: 生年月日 | I12: 年 | K12: 月 | M12: 日
B13: 年齢
B14: 配偶者の有無
B15: 職 業
G16: その他 | H16: （ | M16: ）
B17: 現 住 所 | F17: 〒 | H17: ―
B19: 電 話 番 号
B20: メールアドレス
B21: 本 国 住 所 | F21: 〒 | H21: ―
B23: 電 話 番 号
B24: メールアドレス
B26: 志望科コース | E26: 第一志望 | F26: 第二志望 | G26: コース名 | L26: 一般 | M26: 編入
E27: □ | F27: □ | G27: 通訳翻訳科 日中コース | L27: □ | M27: □
E28: □ | F28: □ | G28: 通訳翻訳科 日韓コース | L28: □ | M28: □
E29: □ | F29: □ | G29: 国際ビジネス学科 | L29: □ | M29: □
E30: □ | F30: □ | G30: 国際コミュニケーション学科 | L30: □ | M30: □ | N30: □ | O30: AMクラス | P30: □ | Q30: PMクラス
B31: ※志望するコースの第一志望・第二志望／一般・編入を選択ください。 ※国際コミュニケーション学科は、AMもしくはPMどちらかの受験となります。必ずどちらかを選択してください。
B33: 学 歴 初等教育から順次 最終出身学校まで 全て記入すること。 | E33: 学校名（初等教育から入力） | L33: 修業年 | M33: 修業期間 | R33: 在籍状況
M35: From | O35: 年 | Q35: 月
M36: To | O36: 年 | Q36: 月
M37: From | O37: 年 | Q37: 月
M38: To | O38: 年 | Q38: 月
M39: From | O39: 年 | Q39: 月
M40: To | O40: 年 | Q40: 月
M41: From | O41: 年 | Q41: 月
M42: To | O42: 年 | Q42: 月
M43: From | O43: 年 | Q43: 月
M44: To | O44: 年 | Q44: 月
M45: From | O45: 年 | Q45: 月
M46: To | O46: 年 | Q46: 月
B47: 日本語教育機関 | M47: From | O47: 年 | Q47: 月
...

Sheet ②経費支弁書
B1: 経 費 支 弁 書
B2: STATEMENT OF FINANCIAL SUPPORT
B4: 日本国法務大臣 殿
B6: 国 籍 / Nationality :
B8: 出願者氏名 / Name of Applicant :
I10: 生年月日 / Date of Birth : | V10: 年 | W10: Y | Y10: 月 | Z10: M | AB10: 日 | AC10: D | AE10: □ | AF10: 男 | AG10: M | AH10: ・ | AI10: □ | AJ10: 女 | AK10: F
B12: 私は、この度、上記の者が日本国へ入国した場合、在留中の経費支弁者になりましたので、以下のとおり経費支弁の引受け経緯を説明するとともに、経費支弁について誓約します。 / I hereby agree to undertake full responsibility to become a financial sponsor of the above-mentioned applicant during his / her stay in Japan. I hereunder describe how and why I support the applicant financially.
B17: １. 経費支弁の引受経緯（申請者の経費の支弁を引き受けた経緯及び申請者との関係ついて具体的に記入して下さい。）
D18: Describe how and why you support the applicant financially.
B26: 2. 経費支弁内容
C28: 私 | M28: は、上記の者の日本国滞在について下記のとおり経費支弁することを誓約します。
C29: また、上記の者が在留期間更新許可申請を行う際には、送金証明書又は本人名義の預金通帳（送金事実、経費支弁事実が記載されたもの）の写し等で、生活費などの支弁事実を明らかにする書類を提出します。
D31: I hereby pledge that I shall supoort the above-mentioned applicant during his / her stay in Japan as follows. Furthermore, if the applicant applies to extend his / her period of stay in future. I shall submit documents that will certify my financial support for the applicant such as the cash transfer certificate and a copy of my saving account with cash transfer record.
B36: (1) 学費 / Tuition Fee | U36: 年間 / Year | AI36: 円 / Yen
B37: (2) 生活費 / Living Expenses | U37: 月額 / Per Month | AI37: 円 / Yen
B38: (3) 具体的な支弁方法をお書き下さい。
D39: Method of payment ( Describe specifically how you transfer money to the applicant. )
B41: □ | D41: 海外から送金 / Remittance from abroad | T41: □ | V41: 奨学金 / Scholarship | AJ41: 円
AJ42: Yen
B43: □ | D43: 海外から携行 | R43: 円 | T43: □ | V43: 在日経費支弁者負担 | AJ43: 円
D44: Carrying from abroad | R44: Yen | V44: Supporter in Japan | AJ44: Yen
B45: ［ | C45: 携行者 Who | K45: 携行時期 When | S45: ] | T45: □ | V45: その他 / Others | AJ45: 円
AJ46: Yen
B49: 経費支弁者 / Sponsor : | W49: 学生との関係 / Relationship :
B51: 自宅住所 / Home Address :
Y53: 電話 / Tel :
B55: 勤務先 / Company Name : | W55: 職業 / Occupation :
B57: 業種 / Business Type : | U57: 年収額 / Annual Income :
B59: 住所 / Work Address :
Y61: 電話 / Tel :
W63: 日付 / Date : | AD63: 年 | AE63: Y | AG63: 月 | AH63: M | AJ63: 日 | AK63: D
S65: 署名 / Signature
B67: 〔 注意 ： 署名は経費支弁者が直筆で記入すること 〕
B68: 〔 Notice : The signature must be handwritten by the sponsor 〕

Sheet ③理由書
C2: 【留学理由】 ／ 【入学志望動機】
C4: 最終学歴校卒業後５年以上経過している場合は、具体的に記入すること。
O49: 作成年月日 (Date) | Z49: 年 | AA49: (Y) | AE49: 月 | AF49: (M) | AJ49: 日 | AK49: (D)
O51: 本人署名 (Signature of Applicant）

Sheet ④質問書
A1: 入学選考に係る質問書
A3: 1 | B3: 支 出 状 況 等 概 要
B5: 学納金納付状況 | O5: 年間 | V5: 円
B6: 同居している家族の人数 | V6: 人
B7: アパート等入居先賃貸額 | P7: 月 | V7: 円
B8: その他生活費 | F8: （ 電気・ガス・水道公共料金、 | P8: 月 | V8: 円
N9: 食費、通学費等 ）
B10: 合 計 | P10: 月 | V10: 円
A13: 2 | B13: 収 入 状 況 等 概 要
B15: （１） | C15: 前回申請以降（今回が初回更新申請である場合は入国以降）の本国からの送金額
D17: 合計 | M17: 円
C18: 送金時期 | F18: （ | J18: 年 | M18: 月 | P18: 日 | Q18: ）
C19: 送金時期 | F19: （ | J19: 年 | M19: 月 | P19: 日 | Q19: ）
C20: 送金時期 | F20: （ | J20: 年 | M20: 月 | P20: 日 | Q20: ）
C21: 送金時期 | F21: （ | J21: 年 | M21: 月 | P21: 日 | Q21: ）
B23: （２） | C23: 前回申請以降（今回が初回更新申請である場合は入国以降）の本国からの携行額
D25: 合計 | M25: 円
C26: 携行時期 | F26: （ | J26: 年 | M26: 月 | P26: 日 | Q26: ）
D27: 携行者・関係 | H27: （ | Q27: ・ | U27: ）
C29: 携行時期 | F29: （ | J29: 年 | M29: 月 | P29: 日 | Q29: ）
D30: 携行者・関係 | H30: （ | Q30: ・ | U30: ）
C32: 携行時期 | F32: （ | J32: 年 | M32: 月 | P32: 日 | Q32: ）
D33: 携行者・関係 | H33: （ | Q33: ・ | U33: ）
C35: 携行時期 | F35: （ | J35: 年 | M35: 月 | P35: 日 | Q35: ）
D36: 携行者・関係 | H36: （ | Q36: ・ | U36: ）
B44: （３） | C44: 前回申請以降（今回が初回更新申請である場合は入国以降）の全てのアルバイトの
C45: 収入（前回申請以前から継続して稼働しているものも含む）
B46: ◎ | C46: 申請者（留学生）のアルバイト
B48: 勤務先① | S48: 電話番号
B49: 住所 | Q49: 給与振込銀行 | Y49: 銀行
B50: 期間 | G50: 年 | J50: 月 | M50: 日 | N50: から | R50: 年 | U50: 月 | X50: 日 | Y50: まで
B51: 勤務時間 | F51: 週 | I51: 時間 | L51: 時給 | Q51: 円 | S51: 月給 | Y51: 円
B53: 勤務先② | S53: 電話番号
B54: 住所 | Q54: 給与振込銀行 | Y54: 銀行
B55: 期間 | G55: 年 | J55: 月 | M55: 日 | N55: から | R55: 年 | U55: 月 | X55: 日 | Y55: まで
B56: 勤務時間 | F56: 週 | I56: 時間 | L56: 時給 | Q56: 円 | S56: 月給 | Y56: 円
B58: 勤務先③ | S58: 電話番号
B59: 住所 | Q59: 給与振込銀行 | Y59: 銀行
B60: 期間 | G60: 年 | J60: 月 | M60: 日 | N60: から | R60: 年 | U60: 月 | X60: 日 | Y60: まで
B61: 勤務時間 | F61: 週 | I61: 時間 | L61: 時給 | Q61: 円 | S61: 月給 | Y61: 円
...

Sheet 願書1
AL1: 表
C3: 【外国人学生用】
W4: 提出日 ： 年 月 日
A5: ※記入欄が不足する場合は、別紙を作成し提出下さい。 | C5: 東京外語専門学校 入 学 願 書 | AF5: 写真 （ 4cm x 3cm ） ６ヵ月以内に 撮影したもの （5枚） | AL5: (注１) ※印の欄以外は必ず本人が正確に記入して下さい。 (注２) 消すことのできない黒ボールペンで記入して下さい。
C7: 本人氏名 ： | I7: （日 本 語） | N7: =①願書入力フォーム!F6&IF(①願書入力フォーム!F6="","",)
I9: （英 語） | N9: =①願書入力フォーム!F8&IF(①願書入力フォーム!F8="","",)
I11: （カ タ カ ナ） | N11: =①願書入力フォーム!F7&IF(①願書入力フォーム!F7="","",)
C14: 第一志望 | E14: 第二志望 | G14: 志 望 科 コ ー ス | AF14: 受付日
C15: =①願書入力フォーム!E27&IF(①願書入力フォーム!E27="","",) -> □ | E15: =①願書入力フォーム!F27&IF(①願書入力フォーム!F27="","",) -> □ | G15: 通訳翻訳科 日中コース | P15: （ | Q15: =①願書入力フォーム!L27&IF(①願書入力フォーム!L27="","",) -> □ | S15: 一般 | U15: ・ | V15: =①願書入力フォーム!M27&IF(①願書入力フォーム!M27="","",) -> □ | X15: 編入 | Z15: ） | AF15: ※
C17: =①願書入力フォーム!E28&IF(①願書入力フォーム!E28="","",) -> □ | E17: =①願書入力フォーム!F28&IF(①願書入力フォーム!F28="","",) -> □ | G17: 通訳翻訳科 日韓コース | P17: （ | Q17: =①願書入力フォーム!L28&IF(①願書入力フォーム!L28="","",) -> □ | S17: 一般 | U17: ・ | V17: =①願書入力フォーム!M28&IF(①願書入力フォーム!M28="","",) -> □ | X17: 編入 | Z17: ） | AF17: 受付番号
AF18: ※
C19: =①願書入力フォーム!E29&IF(①願書入力フォーム!E29="","",) -> □ | E19: =①願書入力フォーム!F29&IF(①願書入力フォーム!F303="","",) -> □ | G19: 国際ビジネス学科 | P19: （ | Q19: =①願書入力フォーム!L29&IF(①願書入力フォーム!L29="","",) -> □ | S19: 一般 | U19: ・ | V19: =①願書入力フォーム!M29&IF(①願書入力フォーム!M29="","",) -> □ | X19: 編入 | Z19: ）
C21: =①願書入力フォーム!E30&IF(①願書入力フォーム!E30="","",) -> □ | E21: =①願書入力フォーム!F30&IF(①願書入力フォーム!F30="","",) -> □ | G21: 国際コミュニケーション学科 | P21: （ | Q21: =①願書入力フォーム!L30&IF(①願書入力フォーム!L30="","",) -> □ | S21: 一般 | U21: ・ | V21: =①願書入力フォーム!M30&IF(①願書入力フォーム!M30="","",) -> □ | X21: 編入 | Z21: ） | AA21: =①願書入力フォーム!N30&IF(①願書入力フォーム!N30="","",) -> □ | AB21: AMクラス | AF21: =①願書入力フォーム!P30&IF(①願書入力フォーム!P30="","",) -> □ | AG21: PMクラス
C23: ※第一希望・第二希望／一般・編入に○をつけて下さい。 国際コミュニケーション学科は午前/午後クラスどちらかを必ず選択ください。
C24: 国籍・地域 | H24: =①願書入力フォーム!F9&IF(①願書入力フォーム!F9="","",) | T24: 出生地 | X24: =①願書入力フォーム!F10&IF(①願書入力フォーム!F10="","",) | AF24: 性別 | AH24: =①願書入力フォーム!F11&IF(①願書入力フォーム!F11="","",)
C25: 生年月日 | H25: =①願書入力フォーム!F12&IF(①願書入力フォーム!F12="","",) | L25: 年 | M25: =①願書入力フォーム!J12&IF(①願書入力フォーム!J12="","",) | O25: 月 | P25: =①願書入力フォーム!L12&IF(①願書入力フォーム!L12="","",) | R25: 日 | T25: 年 齢 | X25: =①願書入力フォーム!F13&IF(①願書入力フォーム!F13="","",) | AB25: 配偶者の有無 | AH25: =①願書入力フォーム!F14&IF(①願書入力フォーム!F14="","",)
C26: 現住所 | F26: 〒 | G26: =①願書入力フォーム!G17&IF(①願書入力フォーム!G17="","",) | I26: ― | J26: =①願書入力フォーム!I17&IF(①願書入力フォーム!I17="","",) | L26: =①願書入力フォーム!F18&IF(①願書入力フォーム!F18="","",)
F27: 電話番号 ： | J27: =①願書入力フォーム!F19&IF(①願書入力フォーム!F19="","",) | R27: E-mail ： | V27: =①願書入力フォーム!F20&IF(①願書入力フォーム!F20="","",)
C28: 本 国 住 所 | F28: 〒 | G28: =①願書入力フォーム!G21&IF(①願書入力フォーム!G21="","",) | I28: ― | J28: =①願書入力フォーム!I21&IF(①願書入力フォーム!I21="","",) | L28: =①願書入力フォーム!F22&IF(①願書入力フォーム!F22="","",)
F29: 電話番号 ： | J29: =①願書入力フォーム!F23&IF(①願書入力フォーム!F23="","",) | R29: E-mail ： | V29: =①願書入力フォーム!F24&IF(①願書入力フォーム!F24="","",)
C30: 職 業 | F30: =①願書入力フォーム!F15&IF(①願書入力フォーム!F15="","",) | H30: =①願書入力フォーム!G15&IF(①願書入力フォーム!G15="","",) | T30: =①願書入力フォーム!F16&IF(①願書入力フォーム!F16="","",) | V30: その他 | X30: （ | Y30: =①願書入力フォーム!I16&IF(①願書入力フォーム!I16="","",) | AK30: ）
C31: 学 歴 | E31: 学 校 名 （ 初等教育から記入 ） | U31: 修業年 | X31: 入 学 年 月 | AC31: 卒 業 （予定） 年 月
E32: =①願書入力フォーム!E35&IF(①願書入力フォーム!E35="","",) | U32: =①願書入力フォーム!L35&IF(①願書入力フォーム!L35="","",) | W32: 年 | X32: =①願書入力フォーム!N35&IF(①願書入力フォーム!N35="","",) | Z32: 年 | AA32: =①願書入力フォーム!P35&IF(①願書入力フォーム!P35="","",) | AB32: 月 | AC32: =①願書入力フォーム!N36&IF(①願書入力フォーム!N36="","",) | AE32: 年 | AF32: =①願書入力フォーム!P36&IF(①願書入力フォーム!P36="","",) | AG32: 月 | AH32: =①願書入力フォーム!R35&IF(①願書入力フォーム!R35="","",)
E34: =①願書入力フォーム!E37&IF(①願書入力フォーム!E37="","",) | U34: =①願書入力フォーム!L37&IF(①願書入力フォーム!L37="","",) | W34: 年 | X34: =①願書入力フォーム!N37&IF(①願書入力フォーム!N37="","",) | Z34: 年 | AA34: =①願書入力フォーム!P37&IF(①願書入力フォーム!P37="","",) | AB34: 月 | AC34: =①願書入力フォーム!N38&IF(①願書入力フォーム!N38="","",) | AE34: 年 | AF34: =①願書入力フォーム!P38&IF(①願書入力フォーム!P38="","",) | AG34: 月 | AH34: =①願書入力フォーム!R37&IF(①願書入力フォーム!R37="","",)
E36: =①願書入力フォーム!E39&IF(①願書入力フォーム!E39="","",) | U36: =①願書入力フォーム!L39&IF(①願書入力フォーム!L39="","",) | W36: 年 | X36: =①願書入力フォーム!N39&IF(①願書入力フォーム!N39="","",) | Z36: 年 | AA36: =①願書入力フォーム!P39&IF(①願書入力フォーム!P39="","",) | AB36: 月 | AC36: =①願書入力フォーム!N40&IF(①願書入力フォーム!N40="","",) | AE36: 年 | AF36: =①願書入力フォーム!P40&IF(①願書入力フォーム!P40="","",) | AG36: 月 | AH36: =①願書入力フォーム!R39&IF(①願書入力フォーム!R39="","",)
E38: =①願書入力フォーム!E41&IF(①願書入力フォーム!E41="","",) | U38: =①願書入力フォーム!L41&IF(①願書入力フォーム!L41="","",) | W38: 年 | X38: =①願書入力フォーム!N41&IF(①願書入力フォーム!N41="","",) | Z38: 年 | AA38: =①願書入力フォーム!P41&IF(①願書入力フォーム!P41="","",) | AB38: 月 | AC38: =①願書入力フォーム!N42&IF(①願書入力フォーム!N42="","",) | AE38: 年 | AF38: =①願書入力フォーム!P42&IF(①願書入力フォーム!P42="","",) | AG38: 月 | AH38: =①願書入力フォーム!R41&IF(①願書入力フォーム!R41="","",)
E40: =①願書入力フォーム!E43&IF(①願書入力フォーム!E43="","",) | U40: =①願書入力フォーム!L43&IF(①願書入力フォーム!L43="","",) | W40: 年 | X40: =①願書入力フォーム!N43&IF(①願書入力フォーム!N43="","",) | Z40: 年 | AA40: =①願書入力フォーム!P43&IF(①願書入力フォーム!P43="","",) | AB40: 月 | AC40: =①願書入力フォーム!N44&IF(①願書入力フォーム!N44="","",) | AE40: 年 | AF40: =①願書入力フォーム!P44&IF(①願書入力フォーム!P44="","",) | AG40: 月 | AH40: =①願書入力フォーム!R43&IF(①願書入力フォーム!R43="","",)
E42: =①願書入力フォーム!E45&IF(①願書入力フォーム!E45="","",) | U42: =①願書入力フォーム!L45&IF(①願書入力フォーム!L45="","",) | W42: 年 | X42: =①願書入力フォーム!N45&IF(①願書入力フォーム!N45="","",) | Z42: 年 | AA42: =①願書入力フォーム!P45&IF(①願書入力フォーム!P45="","",) | AB42: 月 | AC42: =①願書入力フォーム!N46&IF(①願書入力フォーム!N46="","",) | AE42: 年 | AF42: =①願書入力フォーム!P46&IF(①願書入力フォーム!P46="","",) | AG42: 月 | AH42: =①願書入力フォーム!R45&IF(①願書入力フォーム!R45="","",)
C44: 日本語 教育機関 | E44: =①願書入力フォーム!E47&IF(①願書入力フォーム!E47="","",) | U44: =①願書入力フォーム!L47&IF(①願書入力フォーム!L47="","",) | W44: 年 | X44: =①願書入力フォーム!N47&IF(①願書入力フォーム!N47="","",) | Z44: 年 | AA44: =①願書入力フォーム!P47&IF(①願書入力フォーム!P47="","",) | AB44: 月 | AC44: =①願書入力フォーム!N48&IF(①願書入力フォーム!N48="","",) | AE44: 年 | AF44: =①願書入力フォーム!P48&IF(①願書入力フォーム!P48="","",) | AG44: 月 | AH44: =①願書入力フォーム!R47&IF(①願書入力フォーム!R47="","",)
E46: =①願書入力フォーム!E49&IF(①願書入力フォーム!E49="","",) | U46: =①願書入力フォーム!L49&IF(①願書入力フォーム!L49="","",) | W46: 年 | X46: =①願書入力フォーム!N49&IF(①願書入力フォーム!N49="","",) | Z46: 年 | AA46: =①願書入力フォーム!P49&IF(①願書入力フォーム!P49="","",) | AB46: 月 | AC46: =①願書入力フォーム!N50&IF(①願書入力フォーム!N50="","",) | AE46: 年 | AF46: =①願書入力フォーム!P50&IF(①願書入力フォーム!P50="","",) | AG46: 月 | AH46: =①願書入力フォーム!R49&IF(①願書入力フォーム!R49="","",)
C48: 職 歴 | E48: 在籍期間 及び 勤務先等 | H48: 会社名 ： | K48: =①願書入力フォーム!E54&IF(①願書入力フォーム!E54="","",) | R48: 業種 ： | T48: =①願書入力フォーム!J54&IF(①願書入力フォーム!J54="","",) | X48: 在籍 期間 | Z48: ： | AA48: =①願書入力フォーム!O54&IF(①願書入力フォーム!O54="","",) | AC48: 年 | AD48: =①願書入力フォーム!Q54&IF(①願書入力フォーム!Q54="","",) | AE48: 月 | AF48: ～ | AG48: =①願書入力フォーム!O55&IF(①願書入力フォーム!O55="","",) | AI48: 年 | AJ48: =①願書入力フォーム!Q55&IF(①願書入力フォーム!Q55="","",) | AK48: 月
H49: 会社名 ： | K49: =①願書入力フォーム!E56&IF(①願書入力フォーム!E56="","",) | R49: 業種 ： | T49: =①願書入力フォーム!J56&IF(①願書入力フォーム!J56="","",) | X49: 在籍 期間 | Z49: ： | AA49: =①願書入力フォーム!O56&IF(①願書入力フォーム!O56="","",) | AC49: 年 | AD49: =①願書入力フォーム!Q56&IF(①願書入力フォーム!Q56="","",) | AE49: 月 | AF49: ～ | AG49: =①願書入力フォーム!O57&IF(①願書入力フォーム!O57="","",) | AI49: 年 | AJ49: =①願書入力フォーム!Q57&IF(①願書入力フォーム!Q57="","",) | AK49: 月
H50: 会社名 ： | K50: =①願書入力フォーム!E58&IF(①願書入力フォーム!E58="","",) | R50: 業種 ： | T50: =①願書入力フォーム!J58&IF(①願書入力フォーム!J58="","",) | X50: 在籍 期間 | Z50: ： | AA50: =①願書入力フォーム!O58&IF(①願書入力フォーム!O58="","",) | AC50: 年 | AD50: =①願書入力フォーム!Q58&IF(①願書入力フォーム!Q58="","",) | AE50: 月 | AF50: ～ | AG50: =①願書入力フォーム!O59&IF(①願書入力フォーム!O59="","",) | AI50: 年 | AJ50: =①願書入力フォーム!Q59&IF(①願書入力フォーム!Q59="","",) | AK50: 月
H51: 会社名 ： | K51: =①願書入力フォーム!E60&IF(①願書入力フォーム!E60="","",) | R51: 業種 ： | T51: =①願書入力フォーム!J60&IF(①願書入力フォーム!J60="","",) | X51: 在籍 期間 | Z51: ： | AA51: =①願書入力フォーム!O60&IF(①願書入力フォーム!O60="","",) | AC51: 年 | AD51: =①願書入力フォーム!Q60&IF(①願書入力フォーム!Q60="","",) | AE51: 月 | AF51: ～ | AG51: =①願書入力フォーム!O61&IF(①願書入力フォーム!O61="","",) | AI51: 年 | AJ51: =①願書入力フォーム!Q61&IF(①願書入力フォーム!Q61="","",) | AK51: 月
H52: 会社名 ： | K52: =①願書入力フォーム!E62&IF(①願書入力フォーム!E62="","",) | R52: 業種 ： | T52: =①願書入力フォーム!J62&IF(①願書入力フォーム!J62="","",) | X52: 在籍 期間 | Z52: ： | AA52: =①願書入力フォーム!O62&IF(①願書入力フォーム!O62="","",) | AC52: 年 | AD52: =①願書入力フォーム!Q62&IF(①願書入力フォーム!Q62="","",) | AE52: 月 | AF52: ～ | AG52: =①願書入力フォーム!O63&IF(①願書入力フォーム!O66="","",) | AI52: 年 | AJ52: =①願書入力フォーム!Q63&IF(①願書入力フォーム!Q63="","",) | AK52: 月

Sheet 願書2
AM1: 裏
A4: 経費支弁者 | C4: 氏 名 | F4: =①願書入力フォーム!F65&IF(①願書入力フォーム!F65="","",) | AA4: 本人との関係 | AF4: =①願書入力フォーム!F66&IF(①願書入力フォーム!F66="","",)
C5: 現住所 | F5: =①願書入力フォーム!F67&IF(①願書入力フォーム!F67="","",) | AA5: 電 話 | AF5: =①願書入力フォーム!F68&IF(①願書入力フォーム!F68="","",)
C6: 勤務先 | F6: =①願書入力フォーム!F69&IF(①願書入力フォーム!F69="","",) | AA6: 職 業 | AF6: =①願書入力フォーム!F70&IF(①願書入力フォーム!F70="","",)
AA7: 電話（会社） | AF7: =①願書入力フォーム!F71&IF(①願書入力フォーム!F71="","",)
A9: 旅 券 | G9: 旅 券 番 号 | R9: 発 行 年 月 日 | AC9: 有 効 期 限
G10: =①願書入力フォーム!H73&IF(①願書入力フォーム!H73="","",) | R10: =①願書入力フォーム!H74&IF(①願書入力フォーム!H74="","",) | U10: 年 | V10: =①願書入力フォーム!J74&IF(①願書入力フォーム!J74="","",) | X10: 月 | Y10: =①願書入力フォーム!L74&IF(①願書入力フォーム!L74="","",) | AA10: 日 | AC10: =①願書入力フォーム!H75&IF(①願書入力フォーム!H75="","",) | AG10: 年 | AH10: =①願書入力フォーム!J75&IF(①願書入力フォーム!J75="","",) | AJ10: 月 | AK10: =①願書入力フォーム!L75&IF(①願書入力フォーム!L75="","",) | AM10: 日
A11: 過去の日本在留歴 | I11: =①願書入力フォーム!E77&IF(①願書入力フォーム!E77="","",) | K11: 有 | M11: =①願書入力フォーム!H77&IF(①願書入力フォーム!H77="","",) | O11: 回 | R11: =①願書入力フォーム!E78&IF(①願書入力フォーム!E78="","",) | T11: 無 | W11: ※累計来日回数（同一在留資格での一時帰国／再入国を除く）
A13: 入国目的 | I13: 在留資格 | R13: 入国年月日 | AC13: 出国年月日
A14: =①願書入力フォーム!E80&IF(①願書入力フォーム!E80="","",) | I14: =①願書入力フォーム!H80&IF(①願書入力フォーム!H80="","",) | R14: =①願書入力フォーム!K80&IF(①願書入力フォーム!K80="","",) | U14: 年 | V14: =①願書入力フォーム!M80&IF(①願書入力フォーム!M80="","",) | X14: 月 | Y14: =①願書入力フォーム!O80&IF(①願書入力フォーム!O80="","",) | AA14: 日 | AC14: =①願書入力フォーム!Q80&IF(①願書入力フォーム!Q80="","",) | AG14: 年 | AH14: =①願書入力フォーム!S80&IF(①願書入力フォーム!S80="","",) | AJ14: 月 | AK14: =①願書入力フォーム!U80&IF(①願書入力フォーム!U80="","",) | AM14: 日
A15: =①願書入力フォーム!E81&IF(①願書入力フォーム!E81="","",) | I15: =①願書入力フォーム!H81&IF(①願書入力フォーム!H81="","",) | R15: =①願書入力フォーム!K81&IF(①願書入力フォーム!K81="","",) | U15: 年 | V15: =①願書入力フォーム!M81&IF(①願書入力フォーム!M81="","",) | X15: 月 | Y15: =①願書入力フォーム!O81&IF(①願書入力フォーム!O81="","",) | AA15: 日 | AC15: =①願書入力フォーム!Q81&IF(①願書入力フォーム!Q81="","",) | AG15: 年 | AH15: =①願書入力フォーム!S81&IF(①願書入力フォーム!S81="","",) | AJ15: 月 | AK15: =①願書入力フォーム!U81&IF(①願書入力フォーム!U81="","",) | AM15: 日
A16: =①願書入力フォーム!E82&IF(①願書入力フォーム!E82="","",) | I16: =①願書入力フォーム!H82&IF(①願書入力フォーム!H82="","",) | R16: =①願書入力フォーム!K82&IF(①願書入力フォーム!K82="","",) | U16: 年 | V16: =①願書入力フォーム!M82&IF(①願書入力フォーム!M82="","",) | X16: 月 | Y16: =①願書入力フォーム!O82&IF(①願書入力フォーム!O82="","",) | AA16: 日 | AC16: =①願書入力フォーム!Q82&IF(①願書入力フォーム!Q82="","",) | AG16: 年 | AH16: =①願書入力フォーム!S82&IF(①願書入力フォーム!S82="","",) | AJ16: 月 | AK16: =①願書入力フォーム!U82&IF(①願書入力フォーム!U82="","",) | AM16: 日
A18: すでに入国している場合の在留状況
A19: 在留資格 | I19: 在留カード番号 | R19: 入国年月日 | AC19: 在留期間満了期日
A20: =①願書入力フォーム!J84&IF(①願書入力フォーム!J84="","",) | I20: =①願書入力フォーム!J85&IF(①願書入力フォーム!J85="","",) | R20: =①願書入力フォーム!J86&IF(①願書入力フォーム!J86="","",) | U20: 年 | V20: =①願書入力フォーム!M86&IF(①願書入力フォーム!M86="","",) | X20: 月 | Y20: =①願書入力フォーム!O86&IF(①願書入力フォーム!O86="","",) | AA20: 日 | AC20: =①願書入力フォーム!J87&IF(①願書入力フォーム!J87="","",) | AG20: 年 | AH20: =①願書入力フォーム!M87&IF(①願書入力フォーム!M87="","",) | AJ20: 月 | AK20: =①願書入力フォーム!O87&IF(①願書入力フォーム!O87="","",) | AM20: 日
A22: 家 族 構 成
A23: 本 国 | D23: 氏 名 | K23: 続柄 | N23: 生年月日 | T23: 職 業 | Z23: 住 所
D24: =①願書入力フォーム!E90&IF(①願書入力フォーム!E90="","",) | K24: =①願書入力フォーム!H90&IF(①願書入力フォーム!H90="","",) | N24: =①願書入力フォーム!I90&IF(①願書入力フォーム!I90="","",) | T24: =①願書入力フォーム!K90&IF(①願書入力フォーム!K90="","",) | Z24: =①願書入力フォーム!N90&IF(①願書入力フォーム!N90="","",)
D25: =①願書入力フォーム!E91&IF(①願書入力フォーム!E91="","",) | K25: =①願書入力フォーム!H91&IF(①願書入力フォーム!H91="","",) | N25: =①願書入力フォーム!I91&IF(①願書入力フォーム!I91="","",) | T25: =①願書入力フォーム!K91&IF(①願書入力フォーム!K91="","",) | Z25: =①願書入力フォーム!N91&IF(①願書入力フォーム!N91="","",)
D26: =①願書入力フォーム!E92&IF(①願書入力フォーム!E92="","",) | K26: =①願書入力フォーム!H92&IF(①願書入力フォーム!H92="","",) | N26: =①願書入力フォーム!I92&IF(①願書入力フォーム!I92="","",) | T26: =①願書入力フォーム!K92&IF(①願書入力フォーム!K92="","",) | Z26: =①願書入力フォーム!N92&IF(①願書入力フォーム!N92="","",)
D27: =①願書入力フォーム!E93&IF(①願書入力フォーム!E93="","",) | K27: =①願書入力フォーム!H93&IF(①願書入力フォーム!H93="","",) | N27: =①願書入力フォーム!I93&IF(①願書入力フォーム!I93="","",) | T27: =①願書入力フォーム!K93&IF(①願書入力フォーム!K93="","",) | Z27: =①願書入力フォーム!N93&IF(①願書入力フォーム!N93="","",)
A28: 日 本 | D28: 氏 名 | K28: 続柄 | N28: 生年月日 | S28: 国籍・地域 | W28: 同居予定 | AA28: 勤務先・通学先 | AI28: 在留カード番号
D29: =①願書入力フォーム!E95&IF(①願書入力フォーム!E95="","",) | K29: =①願書入力フォーム!H95&IF(①願書入力フォーム!H95="","",) | N29: =①願書入力フォーム!I95&IF(①願書入力フォーム!I95="","",) | S29: =①願書入力フォーム!K95&IF(①願書入力フォーム!K95="","",) | W29: =①願書入力フォーム!M95&IF(①願書入力フォーム!M95="","",) | AA29: =①願書入力フォーム!N95&IF(①願書入力フォーム!N95="","",) | AI29: =①願書入力フォーム!Q95&IF(①願書入力フォーム!Q95="","",)
D30: =①願書入力フォーム!E96&IF(①願書入力フォーム!E96="","",) | K30: =①願書入力フォーム!H96&IF(①願書入力フォーム!H96="","",) | N30: =①願書入力フォーム!I96&IF(①願書入力フォーム!I96="","",) | S30: =①願書入力フォーム!K96&IF(①願書入力フォーム!K96="","",) | W30: =①願書入力フォーム!M96&IF(①願書入力フォーム!M96="","",) | AA30: =①願書入力フォーム!N96&IF(①願書入力フォーム!N96="","",) | AI30: =①願書入力フォーム!Q96&IF(①願書入力フォーム!Q96="","",)
D31: =①願書入力フォーム!E97&IF(①願書入力フォーム!E97="","",) | K31: =①願書入力フォーム!H97&IF(①願書入力フォーム!H97="","",) | N31: =①願書入力フォーム!I97&IF(①願書入力フォーム!I97="","",) | S31: =①願書入力フォーム!K97&IF(①願書入力フォーム!K97="","",) | W31: =①願書入力フォーム!M97&IF(①願書入力フォーム!M97="","",) | AA31: =①願書入力フォーム!N97&IF(①願書入力フォーム!N97="","",) | AI31: =①願書入力フォーム!Q97&IF(①願書入力フォーム!Q97="","",)
A33: 日本国内における緊急連絡先
A34: 氏 名 | H34: =①願書入力フォーム!I99&IF(①願書入力フォーム!I99="","",) | Y34: 本人との関係 | AE34: =①願書入力フォーム!I100&IF(①願書入力フォーム!I100="","",)
A35: 住 所 | H35: =①願書入力フォーム!I101&IF(①願書入力フォーム!I101="","",) | Y35: 電話番号 | AE35: =①願書入力フォーム!I102&IF(①願書入力フォーム!I102="","",)
A37: 現在取得している資格 （日本語能力試験など）
A38: =①願書入力フォーム!E104&IF(①願書入力フォーム!E104="","",) | J38: ／ | K38: =①願書入力フォーム!H104&IF(①願書入力フォーム!H104="","",) | U38: ／ | V38: =①願書入力フォーム!K104&IF(①願書入力フォーム!K104="","",) | AE38: ／ | AF38: =①願書入力フォーム!N104&IF(①願書入力フォーム!N104="","",)
A40: 卒業後の予定
A41: =①願書入力フォーム!D107&IF(①願書入力フォーム!D107="","",) | D41: 進学希望 | J41: ➡ ( | L41: 学校名 | N41: ： | O41: =①願書入力フォーム!J107&IF(①願書入力フォーム!J107="","",) | Z41: 学部 学科名 | AC41: ： | AD41: =①願書入力フォーム!O107&IF(①願書入力フォーム!O107="","",)
A43: =①願書入力フォーム!D109&IF(①願書入力フォーム!D109="","",) | D43: 就職希望 | J43: ➡ ( | L43: 希望業種 ： | Q43: =①願書入力フォーム!J109&IF(①願書入力フォーム!J109="","",) | AL43: )
A45: =①願書入力フォーム!D111&IF(①願書入力フォーム!D111="","",) | D45: 帰 国
A47: =①願書入力フォーム!D113&IF(①願書入力フォーム!D113="","",) | D47: そ の 他 | J47: ( | L47: =①願書入力フォーム!H113&IF(①願書入力フォーム!H113="","",) | AL47: )
